BEGIN:VCALENDAR
VERSION:2.0
PRODID:-//RCA Tennis - ECPv6.15.11//NONSGML v1.0//EN
CALSCALE:GREGORIAN
METHOD:PUBLISH
X-ORIGINAL-URL:https://rcatennis.fr
X-WR-CALDESC:Évènements pour RCA Tennis
REFRESH-INTERVAL;VALUE=DURATION:PT1H
X-Robots-Tag:noindex
X-PUBLISHED-TTL:PT1H
BEGIN:VTIMEZONE
TZID:Europe/Paris
BEGIN:DAYLIGHT
TZOFFSETFROM:+0100
TZOFFSETTO:+0200
TZNAME:CEST
DTSTART:20230326T010000
END:DAYLIGHT
BEGIN:STANDARD
TZOFFSETFROM:+0200
TZOFFSETTO:+0100
TZNAME:CET
DTSTART:20231029T010000
END:STANDARD
BEGIN:DAYLIGHT
TZOFFSETFROM:+0100
TZOFFSETTO:+0200
TZNAME:CEST
DTSTART:20240331T010000
END:DAYLIGHT
BEGIN:STANDARD
TZOFFSETFROM:+0200
TZOFFSETTO:+0100
TZNAME:CET
DTSTART:20241027T010000
END:STANDARD
BEGIN:DAYLIGHT
TZOFFSETFROM:+0100
TZOFFSETTO:+0200
TZNAME:CEST
DTSTART:20250330T010000
END:DAYLIGHT
BEGIN:STANDARD
TZOFFSETFROM:+0200
TZOFFSETTO:+0100
TZNAME:CET
DTSTART:20251026T010000
END:STANDARD
END:VTIMEZONE
BEGIN:VEVENT
DTSTART;VALUE=DATE:20241101
DTEND;VALUE=DATE:20241102
DTSTAMP:20260421T112834
CREATED:20241008T081630Z
LAST-MODIFIED:20241202T112735Z
UID:878-1730419200-1730505599@rcatennis.fr
SUMMARY:2éme Journée : CHALLENGE AUTOMNE/HIVER SOMME SENIORS DAMES
DESCRIPTION:
URL:https://rcatennis.fr/event/2eme-journee-championnats-seniors-dames-automne-hiver/
END:VEVENT
BEGIN:VEVENT
DTSTART;VALUE=DATE:20241103
DTEND;VALUE=DATE:20241104
DTSTAMP:20260421T112834
CREATED:20241104T144300Z
LAST-MODIFIED:20241202T112851Z
UID:1082-1730592000-1730678399@rcatennis.fr
SUMMARY:3éme Journée : CHALLENGE AUTOMNE/HIVER SOMME SENIORS DAMES
DESCRIPTION:
URL:https://rcatennis.fr/event/3eme-journee-championnats-seniors-dames-automne-hiver/
END:VEVENT
BEGIN:VEVENT
DTSTART;VALUE=DATE:20241103
DTEND;VALUE=DATE:20241104
DTSTAMP:20260421T112834
CREATED:20241202T113413Z
LAST-MODIFIED:20241202T113413Z
UID:1154-1730592000-1730678399@rcatennis.fr
SUMMARY:2éme Journée :CHALLENGE AUTOMNE/HIVER SOMME SENIORS MESSIEURS
DESCRIPTION:
URL:https://rcatennis.fr/event/2eme-journee-challenge-automne-hiver-somme-seniors-messieurs/
END:VEVENT
BEGIN:VEVENT
DTSTART;VALUE=DATE:20241110
DTEND;VALUE=DATE:20241111
DTSTAMP:20260421T112834
CREATED:20241104T144404Z
LAST-MODIFIED:20241202T112459Z
UID:1084-1731196800-1731283199@rcatennis.fr
SUMMARY:Journée 4 : 35 Messieurs - Champ. Hauts-de-France 2025
DESCRIPTION:
URL:https://rcatennis.fr/event/4eme-journee-championnats-regional-messieurs-35-ans/
LOCATION:Club RCA Tennis\, Amiens\, France
CATEGORIES:Championnats par équipe
END:VEVENT
BEGIN:VEVENT
DTSTART;VALUE=DATE:20241110
DTEND;VALUE=DATE:20241111
DTSTAMP:20260421T112834
CREATED:20241202T112920Z
LAST-MODIFIED:20241202T112920Z
UID:1148-1731196800-1731283199@rcatennis.fr
SUMMARY:3éme Journée : CHALLENGE AUTOMNE/HIVER SOMME SENIORS DAMES
DESCRIPTION:
URL:https://rcatennis.fr/event/3eme-journee-challenge-automne-hiver-somme-seniors-dames/
END:VEVENT
BEGIN:VEVENT
DTSTART;TZID=Europe/Paris:20241111T090000
DTEND;TZID=Europe/Paris:20241111T140000
DTSTAMP:20260421T112834
CREATED:20241104T144014Z
LAST-MODIFIED:20241104T144014Z
UID:1079-1731315600-1731333600@rcatennis.fr
SUMMARY:(D) Challenge NC à 30/4 hiver 2ème journée
DESCRIPTION:
URL:https://rcatennis.fr/event/d-challenge-nc-a-30-4-hiver-2eme-journee/
END:VEVENT
BEGIN:VEVENT
DTSTART;VALUE=DATE:20241117
DTEND;VALUE=DATE:20241118
DTSTAMP:20260421T112834
CREATED:20241104T144624Z
LAST-MODIFIED:20241202T113444Z
UID:1086-1731801600-1731887999@rcatennis.fr
SUMMARY:3éme Journée :CHALLENGE AUTOMNE/HIVER SOMME SENIORS MESSIEURS
DESCRIPTION:
URL:https://rcatennis.fr/event/3eme-journee-championnats-seniors-messieurs-automne-hiver/
LOCATION:Club RCA Tennis\, Amiens\, France
CATEGORIES:Championnats par équipe
END:VEVENT
BEGIN:VEVENT
DTSTART;VALUE=DATE:20241124
DTEND;VALUE=DATE:20241125
DTSTAMP:20260421T112834
CREATED:20241104T144805Z
LAST-MODIFIED:20241202T113005Z
UID:1088-1732406400-1732492799@rcatennis.fr
SUMMARY:4éme Journée : CHALLENGE AUTOMNE/HIVER SOMME SENIORS DAMES
DESCRIPTION:
URL:https://rcatennis.fr/event/4eme-journee-championnats-seniors-dames-automne-hiver/
LOCATION:Club RCA Tennis\, Amiens\, France
CATEGORIES:Championnats par équipe
END:VEVENT
BEGIN:VEVENT
DTSTART;VALUE=DATE:20241124
DTEND;VALUE=DATE:20241125
DTSTAMP:20260421T112834
CREATED:20241104T144909Z
LAST-MODIFIED:20241202T112539Z
UID:1090-1732406400-1732492799@rcatennis.fr
SUMMARY:Journée 5 : 35 Messieurs - Champ. Hauts-de-France 2025
DESCRIPTION:
URL:https://rcatennis.fr/event/5eme-journee-championnats-regional-messieurs-35-ans/
LOCATION:Club RCA Tennis\, Amiens\, France
CATEGORIES:Championnats par équipe
END:VEVENT
END:VCALENDAR