BEGIN:VCALENDAR
VERSION:2.0
PRODID:-//RCA Tennis - ECPv6.15.11//NONSGML v1.0//EN
CALSCALE:GREGORIAN
METHOD:PUBLISH
X-WR-CALNAME:RCA Tennis
X-ORIGINAL-URL:https://rcatennis.fr
X-WR-CALDESC:Évènements pour RCA Tennis
REFRESH-INTERVAL;VALUE=DURATION:PT1H
X-Robots-Tag:noindex
X-PUBLISHED-TTL:PT1H
BEGIN:VTIMEZONE
TZID:Europe/Paris
BEGIN:DAYLIGHT
TZOFFSETFROM:+0100
TZOFFSETTO:+0200
TZNAME:CEST
DTSTART:20230326T010000
END:DAYLIGHT
BEGIN:STANDARD
TZOFFSETFROM:+0200
TZOFFSETTO:+0100
TZNAME:CET
DTSTART:20231029T010000
END:STANDARD
BEGIN:DAYLIGHT
TZOFFSETFROM:+0100
TZOFFSETTO:+0200
TZNAME:CEST
DTSTART:20240331T010000
END:DAYLIGHT
BEGIN:STANDARD
TZOFFSETFROM:+0200
TZOFFSETTO:+0100
TZNAME:CET
DTSTART:20241027T010000
END:STANDARD
BEGIN:DAYLIGHT
TZOFFSETFROM:+0100
TZOFFSETTO:+0200
TZNAME:CEST
DTSTART:20250330T010000
END:DAYLIGHT
BEGIN:STANDARD
TZOFFSETFROM:+0200
TZOFFSETTO:+0100
TZNAME:CET
DTSTART:20251026T010000
END:STANDARD
END:VTIMEZONE
BEGIN:VEVENT
DTSTART;VALUE=DATE:20241006
DTEND;VALUE=DATE:20241007
DTSTAMP:20260421T125144
CREATED:20241202T113307Z
LAST-MODIFIED:20241202T113307Z
UID:1152-1728172800-1728259199@rcatennis.fr
SUMMARY:1er Journée : CHALLENGE AUTOMNE/HIVER SOMME SENIORS MESSIEURS
DESCRIPTION:
URL:https://rcatennis.fr/event/1er-journee-challenge-automne-hiver-somme-seniors-messieurs/
LOCATION:Club RCA Tennis\, Amiens\, France
END:VEVENT
BEGIN:VEVENT
DTSTART;VALUE=DATE:20241013
DTEND;VALUE=DATE:20241014
DTSTAMP:20260421T125144
CREATED:20241008T080141Z
LAST-MODIFIED:20241202T112233Z
UID:864-1728777600-1728863999@rcatennis.fr
SUMMARY:Journée 2 : 35 Messieurs - Champ. Hauts-de-France 2025
DESCRIPTION:
URL:https://rcatennis.fr/event/2eme-journee-championnats-regional-messieurs-35-ans/
LOCATION:Club RCA Tennis\, Amiens\, France
END:VEVENT
BEGIN:VEVENT
DTSTART;VALUE=DATE:20241013
DTEND;VALUE=DATE:20241014
DTSTAMP:20260421T125144
CREATED:20241008T080402Z
LAST-MODIFIED:20241202T112658Z
UID:869-1728777600-1728863999@rcatennis.fr
SUMMARY:1er Journée : CHALLENGE AUTOMNE/HIVER SOMME SENIORS DAMES
DESCRIPTION:
URL:https://rcatennis.fr/event/1er-journee-championnats-seniors-dames-automne-hiver/
END:VEVENT
BEGIN:VEVENT
DTSTART;TZID=Europe/Paris:20241018T183000
DTEND;TZID=Europe/Paris:20241018T213000
DTSTAMP:20260421T125144
CREATED:20241008T080844Z
LAST-MODIFIED:20241008T080956Z
UID:871-1729276200-1729287000@rcatennis.fr
SUMMARY:Assemblée Générale du RCA Tennis
DESCRIPTION:Invitation à l’Assemblée Générale du RCA TENNIS vendredi 18 Octobre à 19h\n\n\n\n\n  \nChère Madame\, cher Monsieur\, \n  \nNous sommes heureux de vous annoncer que l’Assemblée générale se tiendra le vendredi 18 octobre 2024 de 19h00 à 20h30 au RCA (club house du rugby). \nNous vous remercions de bien vouloir confirmer votre présence ou votre éventuelle absence en utilisant ce lien (en cas d’absence\, veuillez donner votre procuration à une personne présente). \nL’accueil et l’émargement se feront à partir de 18h30. La soirée se poursuivra par un moment festif et convivial. \n  \nOrdre du jour : \n– Ouverture et validation du quorum \n– Approbation du procès-verbal de l’assemblée générale du 24.11.2023 \n– Présentation du rapport moral et d’activité par le président \n– Présentation des résultats sportifs (Les championnats par équipe (jeunes/dames/messieurs); Les tournois) \n– Présentation des actions réalisées \n– Présentation de la nouvelle équipe pédagogique et perspectives pour l’année à venir \n– Présentation du rapport financier\, par le trésorier vote et quitus \n– Présentation du budget prévisionnel et quitus \n– Point sur le projet de création de nouveaux terrains \n– Présentation des candidats et élections au comité directeur \n– Questions diverses \n– Interventions des invités \n– Remise des raquettes aux primo-licencié(e)s (au 30/09/2024) de moins de 10 ans \n– Clôture de l’assemblée générale ordinaire\nNous vous rappelons que\, conformément aux dispositions des statuts et du règlement intérieur : L’assemblée générale ordinaire ne peut délibérer que si au moins 1/5 des membres sont présents\, conformément au quorum prévu dans les statuts.\nPersonnes concernées : chaque membre actif (c’est-à-dire à jour de sa cotisation annuelle)\, présent ou représenté (par voie de procuration) a le droit de vote. Un membre âgé de moins de 16 ans est représenté par son représentant légal. Si ce dernier est membre de l’association\, il dispose\, en plus de sa voix\, de celles de ses enfants membres et âgés de moins de 16 ans.\nVotre présence à cette assemblée générale est essentielle. En cas d’indisponibilité nous vous rappelons que vous avez la possibilité de vous faire représenter par un mandataire de votre choix parmi les membres actifs de l’association. Chaque mandataire peut détenir un maximum de 2 pouvoirs.\nNous comptons sur votre participation et attendons avec impatience de vous rencontrer.\nRecevez\, Madame\, Monsieur\, nos plus chaleureuses salutations sportives. \n 
URL:https://rcatennis.fr/event/assemblee-generale-du-rca-tennis/
END:VEVENT
BEGIN:VEVENT
DTSTART;VALUE=DATE:20241027
DTEND;VALUE=DATE:20241028
DTSTAMP:20260421T125144
CREATED:20241008T081247Z
LAST-MODIFIED:20241202T112316Z
UID:874-1729987200-1730073599@rcatennis.fr
SUMMARY:Journée 3 : 35 Messieurs - Champ. Hauts-de-France 2025
DESCRIPTION:Notre équipe 1 se déplace au Chantilly Tennis Club 1.
URL:https://rcatennis.fr/event/3eme-journee-championnats-regional-messieurs-35-ans/
END:VEVENT
BEGIN:VEVENT
DTSTART;TZID=Europe/Paris:20241027T090000
DTEND;TZID=Europe/Paris:20241027T140000
DTSTAMP:20260421T125144
CREATED:20241008T081407Z
LAST-MODIFIED:20241008T081407Z
UID:876-1730019600-1730037600@rcatennis.fr
SUMMARY:(D) Challenge NC à 30/4 hiver 1er journée
DESCRIPTION:
URL:https://rcatennis.fr/event/d-challenge-nc-a-30-4-hiver-1er-journee/
END:VEVENT
END:VCALENDAR